BEGIN:VCALENDAR
VERSION:2.0
PRODID:-//ExpressionEngine Easy iCalendar plugin//NONSGML v2.0.1//EN
X-WR-TIMEZONE:America/Indiana/Indianapolis
X-WR-CALNAME:Upcoming Auctions
BEGIN:VEVENT
UID:95459
DTSTAMP:20230128T080000
DTSTART:20230128T080000
DTEND:20230204T183000
SUMMARY:Gilmore Personal Property Online Auction
LOCATION:222 W 16th Street\, Connersville\, IN 47331\, US
DESCRIPTION:This is an online only auction for Nancy Gilmore in Connersv
 ille\, IN.  We are offering nice modern furniture\, household
  items\, longaberger\, collectibles\, and more in this online a
 uction. Auction Starts:  January 28\, 2023 @ 8:00 am Auction
  Preview:  February 2\, 2023 from 4:00 pm - 6:00 pm Auction 
 Closes:  Saturday\, February 4\, 2023 starting @ 6:30 pm with
  a cascading soft close Pick up:  Monday\, February 6\, 2023 
 from Noon - 6:00 pm (NOTE IF BUYING FROM THIS AUCTION AND TH
 E NASCAR COLLECTIBLE AUCTION PLEASE PICK UP THE ITEMS IN THE
  GILMORE PERSONAL PROPERTY AUCTION FIRST AS THEY ARE NOT IN 
 THE BUILDING.) 15% Buyers Premium will be added to your invo
 ice All Payments will be processed either right after the au
 ction or first thing the next day.  Call Judy @ 765-561-167
 2 with questions Certain Items marked NO SHIPPING. Please Co
 ntact Judy @ 765-561-1671 for any shipping needs  
URL:https://www.harmeyerauction.net/auctions/detail/bw95459
SEQUENCE:1
END:VEVENT
END:VCALENDAR