BEGIN:VCALENDAR
VERSION:2.0
PRODID:-//ExpressionEngine Easy iCalendar plugin//NONSGML v2.0.0//EN
X-WR-TIMEZONE:America/Indiana/Indianapolis
X-WR-CALNAME:Upcoming Auctions
BEGIN:VEVENT
UID:95102
DTSTAMP:20230120T140000
DTSTART:20230120T140000
DTEND:20230205T183000
SUMMARY:Nascar\, Longaberger\, Dept. 56 Online Auction
LOCATION:1621 S Base Road\, Rushville\, IN 46173\, US
DESCRIPTION:This is an online only auction with nascar collectibles\, Lon
 gaberger Baskets\, Dept. 56 buildings\, beer signs\, furniture\,
  appliances and more.  Please pay attention to the lot desc
 riptions as there are some items that are not located at the
  office. Auction Starts:  January 20\, 2023 Auction Preview:
   During Regular Business Hours @ the base road office Auct
 ion Closes:  February 5\, 2023 @ 6:30 pm with a soft close A
 uction Pick up:  February 6\, 2023 from Noon - 6:00 pm India
 na 7% Sales Tax will be collected on this auction 15% Buyers
  Premium Call Lisa @ 765-938-9595 to inquire about shipping 
 on available lots.  
URL:https://www.harmeyerauction.net/auctions/detail/bw95102
SEQUENCE:1
END:VEVENT
END:VCALENDAR