BEGIN:VCALENDAR
VERSION:2.0
PRODID:-//ExpressionEngine Easy iCalendar plugin//NONSGML v2.0.1//EN
X-WR-TIMEZONE:America/Indiana/Indianapolis
X-WR-CALNAME:Upcoming Auctions
BEGIN:VEVENT
UID:160974
DTSTAMP:20260422T200000
DTSTART:20260422T200000
DTEND:20260506T183000
SUMMARY:Toshiko Bennett Downsizing Online Auction
LOCATION:{location}
DESCRIPTION:Harmeyer Auction & Appraisal Company is pleased to present i
 tems for your consideration in the Toshiko Bennett Downsizin
 g Online Auction. We have the privilege of working with the 
 Bennett family to downsize their wonderful collection. Items
  up for bidding include: W.D. Allison Co. Display Cabinet\, L
 ard Press\, Ritual Ceremonial Staff\, Lorillard's Tomahawk Tob
 acco Cutter\, Hull Pottery & Shawnee Pottery Cookie Jars\, Cas
 e XX Boot Hunter Knife\, Electric Dryer\, Freezer\, Bedroom Fur
 niture\, Military Collection\, Antique Cast Iron Still Bank\, N
 ull Manufacturing Lodge Style Living Room Furniture\, TV\, Pri
 mitive Wooden Barrel-Style Butter Churn\, Hospital bed\, Iver 
 Johnson Arms Revolver Hand Gun\, Brass Spittoon\, Case XX Kitc
 hen Knives\, Japanese Dishes and Japanese Collectibles\, Costu
 me Jewelery and much more. visit: www.harmeyerauction.net Pl
 ease contact Lisa @ 765-938-9595 if you have questions regar
 ding the items in this auction\, or terms of the auction. Auc
 tion Starts: April 22\, 2026 @ 8:00 p.m. Auction Preview: May
  3\, 2026 By Eve. Appt. Only Call Lisa @765-938-9595 for appt
 . (24 Hrs. Prior) Auction Closes: May 6\, 2026 starting at 6:
 30 p.m. with a soft close Auction Pick Up: Friday\, May 8\, 20
 26 from 12:00 p.m. to 6:00 p.m. Bidding opens in 2h 34m Onli
 ne Only Auction Shipping Ava
URL:https://www.harmeyerauction.net/auctions/detail/bw160974
SEQUENCE:1
END:VEVENT
END:VCALENDAR