BEGIN:VCALENDAR
VERSION:2.0
PRODID:-//ExpressionEngine Easy iCalendar plugin//NONSGML v2.0.0//EN
X-WR-TIMEZONE:America/Indiana/Indianapolis
X-WR-CALNAME:Upcoming Auctions
BEGIN:VEVENT
UID:160845
DTSTAMP:20260422T080000
DTSTART:20260422T080000
DTEND:20260429T183000
SUMMARY:Marvin Fleenor Estate Online Auction #1
LOCATION:{location}
DESCRIPTION:This is an online only auction #1 for the Marvin Fleenor Est
 ate from Western Rush County. This will be the first of a co
 uple online auctions. In this auction we are offering a 2014
  Toyota Corrolla\, A Suzuki Burgman\, antique cook stove\, cook
 ie jar collection\, pyrex\, corning ware\, Century Gun Safe\, sm
 all amount of furniture\, and other misc. items. Call Chase @
  765-914-5277 Auction Starts: April 22\, 2026 @ 8:00 am Aucti
 on Preview: By appointment only on April 27th by calling Cha
 se @ 765-914-5277\, preview can be cancelled due to lack of i
 nterest so call in wanting to see anything. Auction Close: A
 pril 29\, 2026 starting at 6:30 pm with a soft close Auction 
 Pick up: May 1\, 2026 from 2:00 pm - 6:00 pm
URL:https://www.harmeyerauction.net/auctions/detail/bw160845
SEQUENCE:1
END:VEVENT
END:VCALENDAR