BEGIN:VCALENDAR
VERSION:2.0
PRODID:-//ExpressionEngine Easy iCalendar plugin//NONSGML v2.0.0//EN
X-WR-TIMEZONE:America/Indiana/Indianapolis
X-WR-CALNAME:Upcoming Auctions
BEGIN:VEVENT
UID:157327
DTSTAMP:20260220T120000
DTSTART:20260220T120000
DTEND:20260226T183000
SUMMARY:WInkler Downsizing Online Auction
LOCATION:{location}
DESCRIPTION:Harmeyer Auction & Appraisals is pleased to present items av
 ailable for your consideration in the Winkler Downsizing Onl
 ine Auction. Auction Items available for bidding include: Ya
 hama golf cart with utility bed\, Toro 50in ztr lawn tractor\,
  antique oak furniture\, woodworking & gardening tools\, house
 hold items\, tools\, and much\, much more. Contact Amy @ (765) 
 561-0668 for more information. Auction Begins: Friday\, Febru
 ary 20\, 2026 Auction Preview: February 26\, 2026 (Morning onl
 y\, call Amy for an appt.) Auction Closes: Thursday\, February
  26\, 2026\, 6:30PM (soft close format) Auction Pick-up: Frida
 y\, February 27\, 2026\, 2:00PM-6:00PM (NO EARLY PICKUP)
URL:https://www.harmeyerauction.net/auctions/detail/bw157327
SEQUENCE:1
END:VEVENT
END:VCALENDAR